BEGIN:VCALENDAR
VERSION:2.0
PRODID:-//Site officiel de la Fédération de Francombat - ECPv6.10.1.1//NONSGML v1.0//EN
CALSCALE:GREGORIAN
METHOD:PUBLISH
X-ORIGINAL-URL:https://www.federation-francombat.com
X-WR-CALDESC:Évènements pour Site officiel de la Fédération de Francombat
REFRESH-INTERVAL;VALUE=DURATION:PT1H
X-Robots-Tag:noindex
X-PUBLISHED-TTL:PT1H
BEGIN:VTIMEZONE
TZID:Europe/Paris
BEGIN:DAYLIGHT
TZOFFSETFROM:+0100
TZOFFSETTO:+0200
TZNAME:CEST
DTSTART:20240331T010000
END:DAYLIGHT
BEGIN:STANDARD
TZOFFSETFROM:+0200
TZOFFSETTO:+0100
TZNAME:CET
DTSTART:20241027T010000
END:STANDARD
END:VTIMEZONE
BEGIN:VEVENT
DTSTART;TZID=Europe/Paris:20240831T090000
DTEND;TZID=Europe/Paris:20240831T170000
DTSTAMP:20260426T020719
CREATED:20240813T192638Z
LAST-MODIFIED:20240813T192638Z
UID:1639-1725094800-1725123600@www.federation-francombat.com
SUMMARY:Passage de Grades
DESCRIPTION:
URL:https://www.federation-francombat.com/event/passage-de-grades/
LOCATION:UCK ARTS MARTIAUX\, 12 rue Georges Caldray\, Vannes\, 56000\, France
END:VEVENT
END:VCALENDAR