BEGIN:VCALENDAR
VERSION:2.0
PRODID:-//Site officiel de la Fédération de Francombat - ECPv6.10.1.1//NONSGML v1.0//EN
CALSCALE:GREGORIAN
METHOD:PUBLISH
X-WR-CALNAME:Site officiel de la Fédération de Francombat
X-ORIGINAL-URL:https://www.federation-francombat.com
X-WR-CALDESC:Évènements pour Site officiel de la Fédération de Francombat
REFRESH-INTERVAL;VALUE=DURATION:PT1H
X-Robots-Tag:noindex
X-PUBLISHED-TTL:PT1H
BEGIN:VTIMEZONE
TZID:Europe/Paris
BEGIN:DAYLIGHT
TZOFFSETFROM:+0100
TZOFFSETTO:+0200
TZNAME:CEST
DTSTART:20250330T010000
END:DAYLIGHT
BEGIN:STANDARD
TZOFFSETFROM:+0200
TZOFFSETTO:+0100
TZNAME:CET
DTSTART:20251026T010000
END:STANDARD
END:VTIMEZONE
BEGIN:VEVENT
DTSTART;TZID=Europe/Paris:20250628T100000
DTEND;TZID=Europe/Paris:20250629T120000
DTSTAMP:20260425T124414
CREATED:20250417T154610Z
LAST-MODIFIED:20250417T192558Z
UID:1648-1751104800-1751198400@www.federation-francombat.com
SUMMARY:STAGE D´ÉTÉ 2025
DESCRIPTION:Stage pour tous les Niveaux \nPlus d´infos
URL:https://www.federation-francombat.com/event/entrainement-commun/
LOCATION:Club de Mons\, Ancienne Ecole Maternelle\, Mons\, 30340\, France
ATTACH;FMTTYPE=image/jpeg:https://www.federation-francombat.com/wp-content/uploads/2025/01/IMG-20250414-WA0004.jpg
END:VEVENT
END:VCALENDAR